BEGIN:VCALENDAR
VERSION:2.0
PRODID:-//Webseite der TuS 1862 Kirn e.V. - ECPv6.1.2.2//NONSGML v1.0//EN
CALSCALE:GREGORIAN
METHOD:PUBLISH
X-WR-CALNAME:Webseite der TuS 1862 Kirn e.V.
X-ORIGINAL-URL:https://tus-kirn.de
X-WR-CALDESC:Veranstaltungen für Webseite der TuS 1862 Kirn e.V.
REFRESH-INTERVAL;VALUE=DURATION:PT1H
X-Robots-Tag:noindex
X-PUBLISHED-TTL:PT1H
BEGIN:VTIMEZONE
TZID:Europe/Berlin
BEGIN:DAYLIGHT
TZOFFSETFROM:+0100
TZOFFSETTO:+0200
TZNAME:CEST
DTSTART:20240331T010000
END:DAYLIGHT
BEGIN:STANDARD
TZOFFSETFROM:+0200
TZOFFSETTO:+0100
TZNAME:CET
DTSTART:20241027T010000
END:STANDARD
TZID:Europe/Helsinki
BEGIN:DAYLIGHT
TZOFFSETFROM:+0200
TZOFFSETTO:+0300
TZNAME:EEST
DTSTART:20200329T010000
END:DAYLIGHT
BEGIN:STANDARD
TZOFFSETFROM:+0300
TZOFFSETTO:+0200
TZNAME:EET
DTSTART:20201025T010000
END:STANDARD
END:VTIMEZONE
BEGIN:VEVENT
DTSTART;TZID=Europe/Berlin:20240109T190000
DTEND;TZID=Europe/Berlin:20240109T203000
DTSTAMP:20260421T115555
CREATED:20231209T152927Z
LAST-MODIFIED:20231209T164135Z
UID:2727-1704826800-1704832200@tus-kirn.de
SUMMARY:Selbstverteidigungskurs
DESCRIPTION:  \nAb Januar findet ein Selbstverteidigungskurs in unserer Abteilung in Kirn statt.\nLernt an 5 Abenden die grundlegenden Inhalte der SV kennen.\nEs werden neben der waffenlosen SV auch die Verteidigung mit Alltagsgegenständen vermittelt.\nWeitere Inhalte sind Tritt- und Schlagtechniken\, sowie Bodenverteidigung\, als auch Lösetechniken und Taktikschulung. Auch die Theorie kommt natürlich nicht zu kurz. Zu guter Letzt gibt es eine Erfolgskontrolle\, in der jeder Teilnehmer seine gelernten Techniken an einem Gegner mit einem sogenannten „Training Suit“ testen kann. \nDer Selbstverteidigungskurs ist für Jugendliche (ab 14) und Erwachsene (M/W/D)\, die Interesse haben Ihre Chancen im Ernstfall zu verbessern. \nKosten\nBei Anmeldung bis zum 27.12.23 :  55 €\nDanach betragen die Kosten:           75 €\n\nAnmeldung\nDie Anmeldung erfolgt über das Vereinsticketportal der TuS Kirn.\nHier geht es zur Anmeldung \nHier die Termine\, immer Dienstags von 19:00- 20:30 Uhr am:\n09.01.2024\n16.01.2024\n23.01.2024\n30.01.2024\n06.02.2024
URL:https://tus-kirn.de/event/selbstverteidigungskurs
ATTACH;FMTTYPE=image/jpeg:https://tus-kirn.de/wp-content/uploads/2023/12/SV_2024-scaled.jpeg
ORGANIZER;CN="TUS%20%20Kirn":MAILTO:kampfsport@tus-kirn.de
END:VEVENT
BEGIN:VEVENT
DTSTART;TZID=Europe/Helsinki:20200626T190000
DTEND;TZID=Europe/Helsinki:20200626T220000
DTSTAMP:20260421T115555
CREATED:20200527T143014Z
LAST-MODIFIED:20200527T143014Z
UID:1126-1593198000-1593208800@tus-kirn.de
SUMMARY:Jahreshauptversammlung
DESCRIPTION:Einladung JHV
URL:https://tus-kirn.de/event/jahreshauptversammlung
LOCATION:Gesellschaftshaus Kirn\, Neue Straße 13\, Kirn\, 55606\, Deutschland
END:VEVENT
END:VCALENDAR